BEGIN:VCALENDAR
VERSION:2.0
PRODID:-//daNitya - ECPv6.15.20//NONSGML v1.0//EN
CALSCALE:GREGORIAN
METHOD:PUBLISH
X-WR-CALNAME:daNitya
X-ORIGINAL-URL:https://www.danitya.at
X-WR-CALDESC:Veranstaltungen für daNitya
REFRESH-INTERVAL;VALUE=DURATION:PT1H
X-Robots-Tag:noindex
X-PUBLISHED-TTL:PT1H
BEGIN:VTIMEZONE
TZID:Europe/Berlin
BEGIN:DAYLIGHT
TZOFFSETFROM:+0100
TZOFFSETTO:+0200
TZNAME:CEST
DTSTART:20240331T010000
END:DAYLIGHT
BEGIN:STANDARD
TZOFFSETFROM:+0200
TZOFFSETTO:+0100
TZNAME:CET
DTSTART:20241027T010000
END:STANDARD
BEGIN:DAYLIGHT
TZOFFSETFROM:+0100
TZOFFSETTO:+0200
TZNAME:CEST
DTSTART:20250330T010000
END:DAYLIGHT
BEGIN:STANDARD
TZOFFSETFROM:+0200
TZOFFSETTO:+0100
TZNAME:CET
DTSTART:20251026T010000
END:STANDARD
BEGIN:DAYLIGHT
TZOFFSETFROM:+0100
TZOFFSETTO:+0200
TZNAME:CEST
DTSTART:20260329T010000
END:DAYLIGHT
BEGIN:STANDARD
TZOFFSETFROM:+0200
TZOFFSETTO:+0100
TZNAME:CET
DTSTART:20261025T010000
END:STANDARD
BEGIN:DAYLIGHT
TZOFFSETFROM:+0100
TZOFFSETTO:+0200
TZNAME:CEST
DTSTART:20270328T010000
END:DAYLIGHT
BEGIN:STANDARD
TZOFFSETFROM:+0200
TZOFFSETTO:+0100
TZNAME:CET
DTSTART:20271031T010000
END:STANDARD
END:VTIMEZONE
BEGIN:VEVENT
DTSTART;TZID=Europe/Berlin:20260422T090000
DTEND;TZID=Europe/Berlin:20260422T101500
DTSTAMP:20260422T211439
CREATED:20251221T115045Z
LAST-MODIFIED:20251221T115045Z
UID:7680-1776848400-1776852900@www.danitya.at
SUMMARY:Seniorenyoga mit Sessel in Lebring
DESCRIPTION:
URL:https://www.danitya.at/event/seniorenyoga-mit-sessel-in-lebring-77/
LOCATION:Yogaplatzl\, Margarethenstraße 2\, Lebring\, Steiermark\, 8403\, Österreich
CATEGORIES:Wohlbewegtes Yoga am Stuhl
ATTACH;FMTTYPE=image/png:https://www.danitya.at/wp-content/uploads/2020/02/YogaamStuhl.png
END:VEVENT
BEGIN:VEVENT
DTSTART;TZID=Europe/Berlin:20260420T110000
DTEND;TZID=Europe/Berlin:20260420T121500
DTSTAMP:20260422T211439
CREATED:20251221T114007Z
LAST-MODIFIED:20251221T114007Z
UID:7644-1776682800-1776687300@www.danitya.at
SUMMARY:Seniorenyoga mit Sessel in Lebring
DESCRIPTION:
URL:https://www.danitya.at/event/seniorenyoga-mit-sessel-in-lebring-59/
LOCATION:Yogaplatzl\, Margarethenstraße 2\, Lebring\, Steiermark\, 8403\, Österreich
CATEGORIES:Wohlbewegtes Yoga am Stuhl
ATTACH;FMTTYPE=image/png:https://www.danitya.at/wp-content/uploads/2020/02/YogaamStuhl.png
END:VEVENT
BEGIN:VEVENT
DTSTART;TZID=Europe/Berlin:20260415T090000
DTEND;TZID=Europe/Berlin:20260415T101500
DTSTAMP:20260422T211439
CREATED:20251221T115017Z
LAST-MODIFIED:20251221T115017Z
UID:7678-1776243600-1776248100@www.danitya.at
SUMMARY:Seniorenyoga mit Sessel in Lebring
DESCRIPTION:
URL:https://www.danitya.at/event/seniorenyoga-mit-sessel-in-lebring-76/
LOCATION:Yogaplatzl\, Margarethenstraße 2\, Lebring\, Steiermark\, 8403\, Österreich
CATEGORIES:Wohlbewegtes Yoga am Stuhl
ATTACH;FMTTYPE=image/png:https://www.danitya.at/wp-content/uploads/2020/02/YogaamStuhl.png
END:VEVENT
BEGIN:VEVENT
DTSTART;TZID=Europe/Berlin:20260413T110000
DTEND;TZID=Europe/Berlin:20260413T121500
DTSTAMP:20260422T211439
CREATED:20251221T113948Z
LAST-MODIFIED:20251221T113948Z
UID:7642-1776078000-1776082500@www.danitya.at
SUMMARY:Seniorenyoga mit Sessel in Lebring
DESCRIPTION:
URL:https://www.danitya.at/event/seniorenyoga-mit-sessel-in-lebring-58/
LOCATION:Yogaplatzl\, Margarethenstraße 2\, Lebring\, Steiermark\, 8403\, Österreich
CATEGORIES:Wohlbewegtes Yoga am Stuhl
ATTACH;FMTTYPE=image/png:https://www.danitya.at/wp-content/uploads/2020/02/YogaamStuhl.png
END:VEVENT
BEGIN:VEVENT
DTSTART;TZID=Europe/Berlin:20260401T090000
DTEND;TZID=Europe/Berlin:20260401T101500
DTSTAMP:20260422T211439
CREATED:20251221T114945Z
LAST-MODIFIED:20251221T114945Z
UID:7676-1775034000-1775038500@www.danitya.at
SUMMARY:Seniorenyoga mit Sessel in Lebring
DESCRIPTION:
URL:https://www.danitya.at/event/seniorenyoga-mit-sessel-in-lebring-75/
LOCATION:Yogaplatzl\, Margarethenstraße 2\, Lebring\, Steiermark\, 8403\, Österreich
CATEGORIES:Wohlbewegtes Yoga am Stuhl
ATTACH;FMTTYPE=image/png:https://www.danitya.at/wp-content/uploads/2020/02/YogaamStuhl.png
END:VEVENT
BEGIN:VEVENT
DTSTART;TZID=Europe/Berlin:20260330T110000
DTEND;TZID=Europe/Berlin:20260330T121500
DTSTAMP:20260422T211439
CREATED:20251221T113926Z
LAST-MODIFIED:20251221T113926Z
UID:7640-1774868400-1774872900@www.danitya.at
SUMMARY:Seniorenyoga mit Sessel in Lebring
DESCRIPTION:
URL:https://www.danitya.at/event/seniorenyoga-mit-sessel-in-lebring-57/
LOCATION:Yogaplatzl\, Margarethenstraße 2\, Lebring\, Steiermark\, 8403\, Österreich
CATEGORIES:Wohlbewegtes Yoga am Stuhl
ATTACH;FMTTYPE=image/png:https://www.danitya.at/wp-content/uploads/2020/02/YogaamStuhl.png
END:VEVENT
BEGIN:VEVENT
DTSTART;TZID=Europe/Berlin:20260325T090000
DTEND;TZID=Europe/Berlin:20260325T101500
DTSTAMP:20260422T211439
CREATED:20251221T114914Z
LAST-MODIFIED:20251221T114914Z
UID:7674-1774429200-1774433700@www.danitya.at
SUMMARY:Seniorenyoga mit Sessel in Lebring
DESCRIPTION:
URL:https://www.danitya.at/event/seniorenyoga-mit-sessel-in-lebring-74/
LOCATION:Yogaplatzl\, Margarethenstraße 2\, Lebring\, Steiermark\, 8403\, Österreich
CATEGORIES:Wohlbewegtes Yoga am Stuhl
ATTACH;FMTTYPE=image/png:https://www.danitya.at/wp-content/uploads/2020/02/YogaamStuhl.png
END:VEVENT
BEGIN:VEVENT
DTSTART;TZID=Europe/Berlin:20260323T110000
DTEND;TZID=Europe/Berlin:20260323T121500
DTSTAMP:20260422T211439
CREATED:20251221T113908Z
LAST-MODIFIED:20251221T113908Z
UID:7638-1774263600-1774268100@www.danitya.at
SUMMARY:Seniorenyoga mit Sessel in Lebring
DESCRIPTION:
URL:https://www.danitya.at/event/seniorenyoga-mit-sessel-in-lebring-56/
LOCATION:Yogaplatzl\, Margarethenstraße 2\, Lebring\, Steiermark\, 8403\, Österreich
CATEGORIES:Wohlbewegtes Yoga am Stuhl
ATTACH;FMTTYPE=image/png:https://www.danitya.at/wp-content/uploads/2020/02/YogaamStuhl.png
END:VEVENT
BEGIN:VEVENT
DTSTART;TZID=Europe/Berlin:20260318T090000
DTEND;TZID=Europe/Berlin:20260318T101500
DTSTAMP:20260422T211439
CREATED:20251221T114742Z
LAST-MODIFIED:20251221T114823Z
UID:7672-1773824400-1773828900@www.danitya.at
SUMMARY:Seniorenyoga mit Sessel in Lebring
DESCRIPTION:
URL:https://www.danitya.at/event/seniorenyoga-mit-sessel-in-lebring-73/
LOCATION:Yogaplatzl\, Margarethenstraße 2\, Lebring\, Steiermark\, 8403\, Österreich
CATEGORIES:Wohlbewegtes Yoga am Stuhl
ATTACH;FMTTYPE=image/png:https://www.danitya.at/wp-content/uploads/2020/02/YogaamStuhl.png
END:VEVENT
BEGIN:VEVENT
DTSTART;TZID=Europe/Berlin:20260316T110000
DTEND;TZID=Europe/Berlin:20260316T121500
DTSTAMP:20260422T211439
CREATED:20251221T113848Z
LAST-MODIFIED:20251221T113848Z
UID:7636-1773658800-1773663300@www.danitya.at
SUMMARY:Seniorenyoga mit Sessel in Lebring
DESCRIPTION:
URL:https://www.danitya.at/event/seniorenyoga-mit-sessel-in-lebring-55/
LOCATION:Yogaplatzl\, Margarethenstraße 2\, Lebring\, Steiermark\, 8403\, Österreich
CATEGORIES:Wohlbewegtes Yoga am Stuhl
ATTACH;FMTTYPE=image/png:https://www.danitya.at/wp-content/uploads/2020/02/YogaamStuhl.png
END:VEVENT
BEGIN:VEVENT
DTSTART;TZID=Europe/Berlin:20260311T090000
DTEND;TZID=Europe/Berlin:20260311T101500
DTSTAMP:20260422T211439
CREATED:20251221T114456Z
LAST-MODIFIED:20251221T114456Z
UID:7664-1773219600-1773224100@www.danitya.at
SUMMARY:Seniorenyoga mit Sessel in Lebring
DESCRIPTION:
URL:https://www.danitya.at/event/seniorenyoga-mit-sessel-in-lebring-69/
LOCATION:Yogaplatzl\, Margarethenstraße 2\, Lebring\, Steiermark\, 8403\, Österreich
CATEGORIES:Wohlbewegtes Yoga am Stuhl
ATTACH;FMTTYPE=image/png:https://www.danitya.at/wp-content/uploads/2020/02/YogaamStuhl.png
END:VEVENT
BEGIN:VEVENT
DTSTART;TZID=Europe/Berlin:20260309T110000
DTEND;TZID=Europe/Berlin:20260309T121500
DTSTAMP:20260422T211439
CREATED:20251221T113824Z
LAST-MODIFIED:20251221T113824Z
UID:7634-1773054000-1773058500@www.danitya.at
SUMMARY:Seniorenyoga mit Sessel in Lebring
DESCRIPTION:
URL:https://www.danitya.at/event/seniorenyoga-mit-sessel-in-lebring-54/
LOCATION:Yogaplatzl\, Margarethenstraße 2\, Lebring\, Steiermark\, 8403\, Österreich
CATEGORIES:Wohlbewegtes Yoga am Stuhl
ATTACH;FMTTYPE=image/png:https://www.danitya.at/wp-content/uploads/2020/02/YogaamStuhl.png
END:VEVENT
BEGIN:VEVENT
DTSTART;TZID=Europe/Berlin:20260225T090000
DTEND;TZID=Europe/Berlin:20260225T101500
DTSTAMP:20260422T211439
CREATED:20251221T114710Z
LAST-MODIFIED:20251221T114710Z
UID:7670-1772010000-1772014500@www.danitya.at
SUMMARY:Seniorenyoga mit Sessel in Lebring
DESCRIPTION:
URL:https://www.danitya.at/event/seniorenyoga-mit-sessel-in-lebring-72/
LOCATION:Yogaplatzl\, Margarethenstraße 2\, Lebring\, Steiermark\, 8403\, Österreich
CATEGORIES:Wohlbewegtes Yoga am Stuhl
ATTACH;FMTTYPE=image/png:https://www.danitya.at/wp-content/uploads/2020/02/YogaamStuhl.png
END:VEVENT
BEGIN:VEVENT
DTSTART;TZID=Europe/Berlin:20260223T110000
DTEND;TZID=Europe/Berlin:20260223T121500
DTSTAMP:20260422T211439
CREATED:20251221T113800Z
LAST-MODIFIED:20251221T113800Z
UID:7632-1771844400-1771848900@www.danitya.at
SUMMARY:Seniorenyoga mit Sessel in Lebring
DESCRIPTION:
URL:https://www.danitya.at/event/seniorenyoga-mit-sessel-in-lebring-53/
LOCATION:Yogaplatzl\, Margarethenstraße 2\, Lebring\, Steiermark\, 8403\, Österreich
CATEGORIES:Wohlbewegtes Yoga am Stuhl
ATTACH;FMTTYPE=image/png:https://www.danitya.at/wp-content/uploads/2020/02/YogaamStuhl.png
END:VEVENT
BEGIN:VEVENT
DTSTART;TZID=Europe/Berlin:20260218T090000
DTEND;TZID=Europe/Berlin:20260218T101500
DTSTAMP:20260422T211439
CREATED:20251221T114636Z
LAST-MODIFIED:20251221T114636Z
UID:7668-1771405200-1771409700@www.danitya.at
SUMMARY:Seniorenyoga mit Sessel in Lebring
DESCRIPTION:
URL:https://www.danitya.at/event/seniorenyoga-mit-sessel-in-lebring-71/
LOCATION:Yogaplatzl\, Margarethenstraße 2\, Lebring\, Steiermark\, 8403\, Österreich
CATEGORIES:Wohlbewegtes Yoga am Stuhl
ATTACH;FMTTYPE=image/png:https://www.danitya.at/wp-content/uploads/2020/02/YogaamStuhl.png
END:VEVENT
BEGIN:VEVENT
DTSTART;TZID=Europe/Berlin:20260216T110000
DTEND;TZID=Europe/Berlin:20260216T121500
DTSTAMP:20260422T211439
CREATED:20251221T113737Z
LAST-MODIFIED:20251221T113737Z
UID:7630-1771239600-1771244100@www.danitya.at
SUMMARY:Seniorenyoga mit Sessel in Lebring
DESCRIPTION:
URL:https://www.danitya.at/event/seniorenyoga-mit-sessel-in-lebring-52/
LOCATION:Yogaplatzl\, Margarethenstraße 2\, Lebring\, Steiermark\, 8403\, Österreich
CATEGORIES:Wohlbewegtes Yoga am Stuhl
ATTACH;FMTTYPE=image/png:https://www.danitya.at/wp-content/uploads/2020/02/YogaamStuhl.png
END:VEVENT
BEGIN:VEVENT
DTSTART;TZID=Europe/Berlin:20260211T190000
DTEND;TZID=Europe/Berlin:20260211T204000
DTSTAMP:20260422T211439
CREATED:20251221T115709Z
LAST-MODIFIED:20251221T115734Z
UID:7571-1770836400-1770842400@www.danitya.at
SUMMARY:Yoga in den Moment mit Meditationspraxis - KURSSTART
DESCRIPTION:
URL:https://www.danitya.at/event/yoga-in-den-moment-mit-meditationspraxis-kursstart/
LOCATION:Rüsthaus Pirka Windorf\, Dorfstraße 24\, Windorf\, Steiermark\, 8054
END:VEVENT
BEGIN:VEVENT
DTSTART;TZID=Europe/Berlin:20260211T090000
DTEND;TZID=Europe/Berlin:20260211T101500
DTSTAMP:20260422T211439
CREATED:20251221T114600Z
LAST-MODIFIED:20251221T114600Z
UID:7666-1770800400-1770804900@www.danitya.at
SUMMARY:Seniorenyoga mit Sessel in Lebring
DESCRIPTION:
URL:https://www.danitya.at/event/seniorenyoga-mit-sessel-in-lebring-70/
LOCATION:Yogaplatzl\, Margarethenstraße 2\, Lebring\, Steiermark\, 8403\, Österreich
CATEGORIES:Wohlbewegtes Yoga am Stuhl
ATTACH;FMTTYPE=image/png:https://www.danitya.at/wp-content/uploads/2020/02/YogaamStuhl.png
END:VEVENT
BEGIN:VEVENT
DTSTART;TZID=Europe/Berlin:20260209T110000
DTEND;TZID=Europe/Berlin:20260209T121500
DTSTAMP:20260422T211439
CREATED:20251221T113710Z
LAST-MODIFIED:20251221T113710Z
UID:7628-1770634800-1770639300@www.danitya.at
SUMMARY:Seniorenyoga mit Sessel in Lebring
DESCRIPTION:
URL:https://www.danitya.at/event/seniorenyoga-mit-sessel-in-lebring-51/
LOCATION:Yogaplatzl\, Margarethenstraße 2\, Lebring\, Steiermark\, 8403\, Österreich
CATEGORIES:Wohlbewegtes Yoga am Stuhl
ATTACH;FMTTYPE=image/png:https://www.danitya.at/wp-content/uploads/2020/02/YogaamStuhl.png
END:VEVENT
BEGIN:VEVENT
DTSTART;TZID=Europe/Berlin:20260204T090000
DTEND;TZID=Europe/Berlin:20260204T101500
DTSTAMP:20260422T211439
CREATED:20251221T114418Z
LAST-MODIFIED:20251221T114418Z
UID:7662-1770195600-1770200100@www.danitya.at
SUMMARY:Seniorenyoga mit Sessel in Lebring
DESCRIPTION:
URL:https://www.danitya.at/event/seniorenyoga-mit-sessel-in-lebring-68/
LOCATION:Yogaplatzl\, Margarethenstraße 2\, Lebring\, Steiermark\, 8403\, Österreich
CATEGORIES:Wohlbewegtes Yoga am Stuhl
ATTACH;FMTTYPE=image/png:https://www.danitya.at/wp-content/uploads/2020/02/YogaamStuhl.png
END:VEVENT
BEGIN:VEVENT
DTSTART;TZID=Europe/Berlin:20260202T110000
DTEND;TZID=Europe/Berlin:20260202T121500
DTSTAMP:20260422T211439
CREATED:20251221T113640Z
LAST-MODIFIED:20251221T113640Z
UID:7626-1770030000-1770034500@www.danitya.at
SUMMARY:Seniorenyoga mit Sessel in Lebring
DESCRIPTION:
URL:https://www.danitya.at/event/seniorenyoga-mit-sessel-in-lebring-50/
LOCATION:Yogaplatzl\, Margarethenstraße 2\, Lebring\, Steiermark\, 8403\, Österreich
CATEGORIES:Wohlbewegtes Yoga am Stuhl
ATTACH;FMTTYPE=image/png:https://www.danitya.at/wp-content/uploads/2020/02/YogaamStuhl.png
END:VEVENT
BEGIN:VEVENT
DTSTART;TZID=Europe/Berlin:20260128T090000
DTEND;TZID=Europe/Berlin:20260128T101500
DTSTAMP:20260422T211439
CREATED:20251221T114345Z
LAST-MODIFIED:20251221T114345Z
UID:7660-1769590800-1769595300@www.danitya.at
SUMMARY:Seniorenyoga mit Sessel in Lebring
DESCRIPTION:
URL:https://www.danitya.at/event/seniorenyoga-mit-sessel-in-lebring-67/
LOCATION:Yogaplatzl\, Margarethenstraße 2\, Lebring\, Steiermark\, 8403\, Österreich
CATEGORIES:Wohlbewegtes Yoga am Stuhl
ATTACH;FMTTYPE=image/png:https://www.danitya.at/wp-content/uploads/2020/02/YogaamStuhl.png
END:VEVENT
BEGIN:VEVENT
DTSTART;TZID=Europe/Berlin:20260126T110000
DTEND;TZID=Europe/Berlin:20260126T121500
DTSTAMP:20260422T211439
CREATED:20251221T113601Z
LAST-MODIFIED:20251221T113601Z
UID:7624-1769425200-1769429700@www.danitya.at
SUMMARY:Seniorenyoga mit Sessel in Lebring
DESCRIPTION:
URL:https://www.danitya.at/event/seniorenyoga-mit-sessel-in-lebring-49/
LOCATION:Yogaplatzl\, Margarethenstraße 2\, Lebring\, Steiermark\, 8403\, Österreich
CATEGORIES:Wohlbewegtes Yoga am Stuhl
ATTACH;FMTTYPE=image/png:https://www.danitya.at/wp-content/uploads/2020/02/YogaamStuhl.png
END:VEVENT
BEGIN:VEVENT
DTSTART;TZID=Europe/Berlin:20251022T090000
DTEND;TZID=Europe/Berlin:20251022T101500
DTSTAMP:20260422T211439
CREATED:20250807T191623Z
LAST-MODIFIED:20250807T191623Z
UID:7575-1761123600-1761128100@www.danitya.at
SUMMARY:Seniorenyoga mit Sessel in Lebring
DESCRIPTION:
URL:https://www.danitya.at/event/seniorenyoga-mit-sessel-in-lebring-48/
LOCATION:Yogaplatzl\, Margarethenstraße 2\, Lebring\, Steiermark\, 8403\, Österreich
CATEGORIES:Wohlbewegtes Yoga am Stuhl
ATTACH;FMTTYPE=image/png:https://www.danitya.at/wp-content/uploads/2020/02/YogaamStuhl.png
END:VEVENT
BEGIN:VEVENT
DTSTART;TZID=Europe/Berlin:20251020T110000
DTEND;TZID=Europe/Berlin:20251020T121500
DTSTAMP:20260422T211439
CREATED:20250807T191336Z
LAST-MODIFIED:20250807T191336Z
UID:7565-1760958000-1760962500@www.danitya.at
SUMMARY:Seniorenyoga mit Sessel in Lebring
DESCRIPTION:
URL:https://www.danitya.at/event/seniorenyoga-mit-sessel-in-lebring-43/
LOCATION:Yogaplatzl\, Margarethenstraße 2\, Lebring\, Steiermark\, 8403\, Österreich
CATEGORIES:Wohlbewegtes Yoga am Stuhl
ATTACH;FMTTYPE=image/png:https://www.danitya.at/wp-content/uploads/2020/02/YogaamStuhl.png
END:VEVENT
BEGIN:VEVENT
DTSTART;TZID=Europe/Berlin:20251015T090000
DTEND;TZID=Europe/Berlin:20251015T101500
DTSTAMP:20260422T211439
CREATED:20250807T191604Z
LAST-MODIFIED:20250807T191604Z
UID:7574-1760518800-1760523300@www.danitya.at
SUMMARY:Seniorenyoga mit Sessel in Lebring
DESCRIPTION:
URL:https://www.danitya.at/event/seniorenyoga-mit-sessel-in-lebring-47/
LOCATION:Yogaplatzl\, Margarethenstraße 2\, Lebring\, Steiermark\, 8403\, Österreich
CATEGORIES:Wohlbewegtes Yoga am Stuhl
ATTACH;FMTTYPE=image/png:https://www.danitya.at/wp-content/uploads/2020/02/YogaamStuhl.png
END:VEVENT
BEGIN:VEVENT
DTSTART;TZID=Europe/Berlin:20251013T110000
DTEND;TZID=Europe/Berlin:20251013T121500
DTSTAMP:20260422T211439
CREATED:20250807T191310Z
LAST-MODIFIED:20250807T191310Z
UID:7563-1760353200-1760357700@www.danitya.at
SUMMARY:Seniorenyoga mit Sessel in Lebring
DESCRIPTION:
URL:https://www.danitya.at/event/seniorenyoga-mit-sessel-in-lebring-42/
LOCATION:Yogaplatzl\, Margarethenstraße 2\, Lebring\, Steiermark\, 8403\, Österreich
CATEGORIES:Wohlbewegtes Yoga am Stuhl
ATTACH;FMTTYPE=image/png:https://www.danitya.at/wp-content/uploads/2020/02/YogaamStuhl.png
END:VEVENT
BEGIN:VEVENT
DTSTART;TZID=Europe/Berlin:20251008T090000
DTEND;TZID=Europe/Berlin:20251008T101500
DTSTAMP:20260422T211439
CREATED:20250807T191517Z
LAST-MODIFIED:20250807T191517Z
UID:7572-1759914000-1759918500@www.danitya.at
SUMMARY:Seniorenyoga mit Sessel in Lebring
DESCRIPTION:
URL:https://www.danitya.at/event/seniorenyoga-mit-sessel-in-lebring-46/
LOCATION:Yogaplatzl\, Margarethenstraße 2\, Lebring\, Steiermark\, 8403\, Österreich
CATEGORIES:Wohlbewegtes Yoga am Stuhl
ATTACH;FMTTYPE=image/png:https://www.danitya.at/wp-content/uploads/2020/02/YogaamStuhl.png
END:VEVENT
BEGIN:VEVENT
DTSTART;TZID=Europe/Berlin:20251006T110000
DTEND;TZID=Europe/Berlin:20251006T121500
DTSTAMP:20260422T211439
CREATED:20250807T191244Z
LAST-MODIFIED:20250807T191244Z
UID:7561-1759748400-1759752900@www.danitya.at
SUMMARY:Seniorenyoga mit Sessel in Lebring
DESCRIPTION:
URL:https://www.danitya.at/event/seniorenyoga-mit-sessel-in-lebring-41/
LOCATION:Yogaplatzl\, Margarethenstraße 2\, Lebring\, Steiermark\, 8403\, Österreich
CATEGORIES:Wohlbewegtes Yoga am Stuhl
ATTACH;FMTTYPE=image/png:https://www.danitya.at/wp-content/uploads/2020/02/YogaamStuhl.png
END:VEVENT
BEGIN:VEVENT
DTSTART;TZID=Europe/Berlin:20251001T190000
DTEND;TZID=Europe/Berlin:20251001T204000
DTSTAMP:20260422T211439
CREATED:20250506T074509Z
LAST-MODIFIED:20250506T075440Z
UID:7523-1759345200-1759351200@www.danitya.at
SUMMARY:Yoga in den Moment mit Meditationspraxis - Kursstart
DESCRIPTION:
URL:https://www.danitya.at/event/yoga-in-den-moment-mit-meditationspraxis/
LOCATION:Rüsthaus Pirka Windorf\, Dorfstraße 24\, Windorf\, Steiermark\, 8054
END:VEVENT
END:VCALENDAR